Workbook

Sheet Bucci
B2: COMUNE DI GENOVA - DIREZIONE SEGRETERIA GENERALE E ORGANI ISTITUZIONALI
B3: RENDICONTO VIAGGI – CICLO AMMINISTRATIVO 2017/2022 – ESERCIZIO FINANZIARIO 2019
B4: SINDACO MARCO BUCCI
B5: DESTINAZIONE | E5: RIMBORSATE * | H5: FATTURATE | K5: TOTALE TRASFERTA
C6: DAL | D6: AL | E6: SPESE DI VIAGGIO | F6: AUTO / km | G6: SPESE DI VITTO/ ALLOGGIO | H6: SPESE DI VIAGGIO | I6: AUTO | J6: SPESE DI VITTO/ ALLOGGIO
A7: 1 | B7: ROMA | C7: 16/42019 | D7: 43571 | H7: 411.79 | K7: =SUM(E7:J7) -> 411.79
A8: 2 | B8: ROMA | C8: 43522 | D8: 43522 | H8: 271.29 | K8: =SUM(E8:J8) -> 271.29
A9: 3 | B9: ROMA | C9: 43547 | D9: 43547 | G9: 176 | K9: =SUM(E9:J9) -> 176
A10: 4 | B10: COLUMBUS-OHIO-USA | C10: 43599 | D10: 43603 | E10: 35.39 | K10: =SUM(E10:J10) -> 35.39
A11: 5 | K11: =SUM(E11:J11) -> 0
A12: 6 | K12: =SUM(E12:J12) -> 0
A13: 7 | K13: =SUM(E13:J13) -> 0
A14: 8 | K14: =SUM(E14:J14) -> 0
A15: 9 | K15: =SUM(E15:J15) -> 0
A16: 10 | K16: =SUM(E16:J16) -> 0
A17: 11 | K17: =SUM(E17:J17) -> 0
A18: 12 | K18: =SUM(E18:J18) -> 0
A19: 13 | K19: =SUM(E19:J19) -> 0
A20: 14 | K20: =SUM(E20:J20) -> 0
B21: TOTALI | E21: =SUM(E7:E20) -> 35.39 | F21: =SUM(F7:F20) -> 0 | G21: =SUM(G7:G20) -> 176 | H21: =SUM(H7:H20) -> 683.08 | I21: =SUM(I7:I20) -> 0 | J21: =SUM(J7:J20) -> 0 | K21: =SUM(K7:K20) -> 894.47
B23: *al vettore/all’economato – anticipi /carte di credito

Sheet Balleari
B2: COMUNE DI GENOVA - DIREZIONE SEGRETERIA GENERALE E ORGANI ISTITUZIONALI
B3: RENDICONTO VIAGGI – CICLO AMMINISTRATIVO 2017/2022 – ESERCIZIO FINANZIARIO 2019
B4: ASSESSORE STEFANO BALLEARI
B5: DESTINAZIONE | E5: RIMBORSATE * | H5: FATTURATE | K5: TOTALE TRASFERTA
C6: DAL | D6: AL | E6: SPESE DI VIAGGIO | F6: AUTO / km | G6: SPESE DI VITTO/ ALLOGGIO | H6: SPESE DI VIAGGIO | I6: AUTO | J6: SPESE DI VITTO/ ALLOGGIO
B7: NIZZA | C7: 43490 | D7: 43490 | E7: =13.1+21.53 -> 34.63 | K7: =SUM(E7:J7) -> 34.63
B8: MILANO | C8: 43493 | D8: 43493 | E8: =14.7+30.2 -> 44.9 | K8: =SUM(E8:J8) -> 44.9
B9: BOLOGNA | C9: 43507 | D9: 43507 | E9: 91.8 | G9: 8 | K9: =SUM(E9:J9) -> 99.8
K10: =SUM(E10:J10) -> 0
K11: =SUM(E11:J11) -> 0
K12: =SUM(E12:J12) -> 0
K13: =SUM(E13:J13) -> 0
K14: =SUM(E14:J14) -> 0
K15: =SUM(E15:J15) -> 0
K16: =SUM(E16:J16) -> 0
K17: =SUM(E17:J17) -> 0
K18: =SUM(E18:J18) -> 0
K19: =SUM(E19:J19) -> 0
K20: =SUM(E20:J20) -> 0
B21: TOTALI | E21: =SUM(E7:E20) -> 171.33 | F21: =SUM(F7:F20) -> 0 | G21: =SUM(G7:G20) -> 8 | H21: =SUM(H7:H20) -> 0 | I21: =SUM(I7:I20) -> 0 | J21: =SUM(J7:J20) -> 0 | K21: =SUM(K7:K20) -> 179.33
B23: *al vettore/all’economato – anticipi /carte di credito

Sheet Bordilli
B2: COMUNE DI GENOVA - DIREZIONE SEGRETERIA GENERALE E ORGANI ISTITUZIONALI
B3: RENDICONTO VIAGGI – CICLO AMMINISTRATIVO 2017/2022 – ESERCIZIO FINANZIARIO 2019
B4: ASSESSORE PAOLA BORDILLI
B5: DESTINAZIONE | E5: RIMBORSATE * | H5: FATTURATE | K5: TOTALE TRASFERTA
C6: DAL | D6: AL | E6: SPESE DI VIAGGIO | F6: AUTO / km | G6: SPESE DI VITTO/ ALLOGGIO | H6: SPESE DI VIAGGIO | I6: AUTO | J6: SPESE DI VITTO/ ALLOGGIO
B7: MONTECARLO | C7: 43561 | D7: 43561 | E7: 17.5 | K7: =SUM(E7:J7) -> 17.5
K8: =SUM(E8:J8) -> 0
K9: =SUM(E9:J9) -> 0
K10: =SUM(E10:J10) -> 0
K11: =SUM(E11:J11) -> 0
K12: =SUM(E12:J12) -> 0
K13: =SUM(E13:J13) -> 0
K14: =SUM(E14:J14) -> 0
K15: =SUM(E15:J15) -> 0
K16: =SUM(E16:J16) -> 0
K17: =SUM(E17:J17) -> 0
K18: =SUM(E18:J18) -> 0
K19: =SUM(E19:J19) -> 0
K20: =SUM(E20:J20) -> 0
B21: TOTALI | E21: =SUM(E7:E20) -> 17.5 | F21: =SUM(F7:F20) -> 0 | G21: =SUM(G7:G20) -> 0 | H21: =SUM(H7:H20) -> 0 | I21: =SUM(I7:I20) -> 0 | J21: =SUM(J7:J20) -> 0 | K21: =SUM(K7:K20) -> 17.5
B23: *al vettore/all’economato – anticipi /carte di credito

Sheet Campora
B2: COMUNE DI GENOVA - DIREZIONE SEGRETERIA GENERALE E ORGANI ISTITUZIONALI
B3: RENDICONTO VIAGGI – CICLO AMMINISTRATIVO 2017/2022 – ESERCIZIO FINANZIARIO 2019
B4: ASSESSORE MATTEO CAMPORA
B5: DESTINAZIONE | E5: RIMBORSATE * | H5: FATTURATE | K5: TOTALE TRASFERTA
C6: DAL | D6: AL | E6: SPESE DI VIAGGIO | F6: AUTO / km | G6: SPESE DI VITTO/ ALLOGGIO | H6: SPESE DI VIAGGIO | I6: AUTO | J6: SPESE DI VITTO/ ALLOGGIO
B7: ROMA | C7: 43488 | D7: 43489 | E7: 63.5 | G7: 63 | H7: 163.71 | K7: =SUM(E7:J7) -> 290.21
B8: MILANO | C8: 43514 | D8: 43514 | E8: 61 | K8: =SUM(E8:J8) -> 61
B9: MILANO | C9: 43591 | D9: 43591 | E9: 30.2 | G9: 13.1 | K9: =SUM(E9:J9) -> 43.3
K10: =SUM(E10:J10) -> 0
K11: =SUM(E11:J11) -> 0
K12: =SUM(E12:J12) -> 0
K13: =SUM(E13:J13) -> 0
K14: =SUM(E14:J14) -> 0
K15: =SUM(E15:J15) -> 0
K16: =SUM(E16:J16) -> 0
K17: =SUM(E17:J17) -> 0
K18: =SUM(E18:J18) -> 0
K19: =SUM(E19:J19) -> 0
K20: =SUM(E20:J20) -> 0
B21: TOTALI | E21: =SUM(E7:E20) -> 154.7 | F21: =SUM(F7:F20) -> 0 | G21: =SUM(G7:G20) -> 76.1 | H21: =SUM(H7:H20) -> 163.71 | I21: =SUM(I7:I20) -> 0 | J21: =SUM(J7:J20) -> 0 | K21: =SUM(K7:K20) -> 394.51
B23: *al vettore/all’economato – anticipi /carte di credito

Sheet Cenci
B2: COMUNE DI GENOVA - DIREZIONE SEGRETERIA GENERALE E ORGANI ISTITUZIONALI
B3: RENDICONTO VIAGGI – CICLO AMMINISTRATIVO 2017/2022 – ESERCIZIO FINANZIARIO 2019
B4: ASSESSORE SIMONETTA CENCI
B5: DESTINAZIONE | E5: RIMBORSATE * | H5: FATTURATE | K5: TOTALE TRASFERTA
C6: DAL | D6: AL | E6: SPESE DI VIAGGIO | F6: AUTO / km | G6: SPESE DI VITTO/ ALLOGGIO | H6: SPESE DI VIAGGIO | I6: AUTO | J6: SPESE DI VITTO/ ALLOGGIO
A7: 1 | B7: PARIGI | C7: 43477 | D7: 43480 | E7: 69 | G7: 278.52 | H7: 193.17 | K7: =SUM(E7:J7) -> 540.69
A8: 2 | B8: MILANO | C8: 43544 | D8: 42449 | E8: 13 | G8: 2.5 | K8: =SUM(E8:J8) -> 15.5
A9: 3 | B9: ROMA | C9: 43606 | D9: 43606 | J9: =105.3 -> 105.3 | K9: =SUM(E9:J9) -> 105.3
A10: 4 | K10: =SUM(E10:J10) -> 0
A11: 5 | K11: =SUM(E11:J11) -> 0
A12: 6 | K12: =SUM(E12:J12) -> 0
A13: 7 | K13: =SUM(E13:J13) -> 0
A14: 8 | K14: =SUM(E14:J14) -> 0
A15: 9 | K15: =SUM(E15:J15) -> 0
A16: 10 | K16: =SUM(E16:J16) -> 0
A17: 11 | K17: =SUM(E17:J17) -> 0
A18: 12 | K18: =SUM(E18:J18) -> 0
A19: 13 | K19: =SUM(E19:J19) -> 0
A20: 14 | K20: =SUM(E20:J20) -> 0
B21: TOTALI | E21: =SUM(E7:E20) -> 82 | F21: =SUM(F7:F20) -> 0 | G21: =SUM(G7:G20) -> 281.02 | H21: =SUM(H7:H20) -> 193.17 | I21: =SUM(I7:I20) -> 0 | J21: =SUM(J7:J20) -> 105.3 | K21: =SUM(K7:K20) -> 661.49
B23: *al vettore/all’economato – anticipi /carte di credito

Sheet Fanghella
B2: COMUNE DI GENOVA - DIREZIONE SEGRETERIA GENERALE E ORGANI ISTITUZIONALI
B3: RENDICONTO VIAGGI – CICLO AMMINISTRATIVO 2017/2022 – ESERCIZIO FINANZIARIO 2019
B4: ASSESSORE PAOLO FANGHELLA
B5: DESTINAZIONE | E5: RIMBORSATE * | H5: FATTURATE | K5: TOTALE TRASFERTA
C6: DAL | D6: AL | E6: SPESE DI VIAGGIO | F6: AUTO / km | G6: SPESE DI VITTO/ ALLOGGIO | H6: SPESE DI VIAGGIO | I6: AUTO | J6: SPESE DI VITTO/ ALLOGGIO
B7: ROMA | C7: 43550 | D7: 43550 | E7: 33 | H7: 721.79 | K7: =SUM(E7:J7) -> 754.79
K8: =SUM(E8:J8) -> 0
K9: =SUM(E9:J9) -> 0
K10: =SUM(E10:J10) -> 0
K11: =SUM(E11:J11) -> 0
K12: =SUM(E12:J12) -> 0
K13: =SUM(E13:J13) -> 0
K14: =SUM(E14:J14) -> 0
K15: =SUM(E15:J15) -> 0
K16: =SUM(E16:J16) -> 0
K17: =SUM(E17:J17) -> 0
K18: =SUM(E18:J18) -> 0
K19: =SUM(E19:J19) -> 0
K20: =SUM(E20:J20) -> 0
B21: TOTALI | E21: =SUM(E7:E20) -> 33 | F21: =SUM(F7:F20) -> 0 | G21: =SUM(G7:G20) -> 0 | H21: =SUM(H7:H20) -> 721.79 | I21: =SUM(I7:I20) -> 0 | J21: =SUM(J7:J20) -> 0 | K21: =SUM(K7:K20) -> 754.79
B23: *al vettore/all’economato – anticipi /carte di credito

Sheet Fassio
B2: COMUNE DI GENOVA - DIREZIONE SEGRETERIA GENERALE E ORGANI ISTITUZIONALI
B3: RENDICONTO VIAGGI – CICLO AMMINISTRATIVO 2017/2022 – ESERCIZIO FINANZIARIO 2019
B4: ASSESSORE FRANCESCA FASSIO
B5: DESTINAZIONE | E5: RIMBORSATE * | H5: FATTURATE | K5: TOTALE TRASFERTA
C6: DAL | D6: AL | E6: SPESE DI VIAGGIO | F6: AUTO / km | G6: SPESE DI VITTO/ ALLOGGIO | H6: SPESE DI VIAGGIO | I6: AUTO | J6: SPESE DI VITTO/ ALLOGGIO
K7: =SUM(E7:J7) -> 0
K8: =SUM(E8:J8) -> 0
K9: =SUM(E9:J9) -> 0
K10: =SUM(E10:J10) -> 0
K11: =SUM(E11:J11) -> 0
K12: =SUM(E12:J12) -> 0
K13: =SUM(E13:J13) -> 0
K14: =SUM(E14:J14) -> 0
K15: =SUM(E15:J15) -> 0
K16: =SUM(E16:J16) -> 0
K17: =SUM(E17:J17) -> 0
K18: =SUM(E18:J18) -> 0
... K20: =SUM(E20:J20) -> 0
B21: TOTALI | E21: =SUM(E7:E20) -> 0 | F21: =SUM(F7:F20) -> 0 | G21: =SUM(G7:G20) -> 0 | H21: =SUM(H7:H20) -> 0 | I21: =SUM(I7:I20) -> 0 | J21: =SUM(J7:J20) -> 0 | K21: =SUM(K7:K20) -> 0
B23: *al vettore/all’economato – anticipi /carte di credito

Sheet Garassino
B2: COMUNE DI GENOVA - DIREZIONE SEGRETERIA GENERALE E ORGANI ISTITUZIONALI
B3: RENDICONTO VIAGGI – CICLO AMMINISTRATIVO 2017/2022 – ESERCIZIO FINANZIARIO 2019
B4: ASSESSORE STEFANO GARASSINO
B5: DESTINAZIONE | E5: RIMBORSATE * | H5: FATTURATE | K5: TOTALE TRASFERTA
C6: DAL | D6: AL | E6: SPESE DI VIAGGIO | F6: AUTO / km | G6: SPESE DI VITTO/ ALLOGGIO | H6: SPESE DI VIAGGIO | I6: AUTO | J6: SPESE DI VITTO/ ALLOGGIO
A7: 1 | B7: ROMA | C7: 43495 | D7: 43496 | H7: 115.8 | K7: =SUM(E7:J7) -> 115.8
A8: 2 | B8: ROMA | C8: 43599 | D8: 43600 | E8: =551.77+73.5 -> 625.27 | K8: =SUM(E8:J8) -> 625.27
A9: 3 | K9: =SUM(E9:J9) -> 0
A10: 4 | K10: =SUM(E10:J10) -> 0
A11: 5 | K11: =SUM(E11:J11) -> 0
A12: 6 | K12: =SUM(E12:J12) -> 0
A13: 7 | K13: =SUM(E13:J13) -> 0
A14: 8 | K14: =SUM(E14:J14) -> 0
A15: 9 | K15: =SUM(E15:J15) -> 0
A16: 10 | K16: =SUM(E16:J16) -> 0
A17: 11 | K17: =SUM(E17:J17) -> 0
A18: 12 | K18: =SUM(E18:J18) -> 0
A19: 13 | K19: =SUM(E19:J19) -> 0
A20: 14 | K20: =SUM(E20:J20) -> 0
B21: TOTALI | E21: =SUM(E7:E20) -> 625.27 | F21: =SUM(F7:F20) -> 0 | G21: =SUM(G7:G20) -> 0 | H21: =SUM(H7:H20) -> 115.8 | I21: =SUM(I7:I20) -> 0 | J21: =SUM(J7:J20) -> 0 | K21: =SUM(K7:K20) -> 741.07
B23: *al vettore/all’economato – anticipi /carte di credito

Sheet Grosso
B2: COMUNE DI GENOVA - DIREZIONE SEGRETERIA GENERALE E ORGANI ISTITUZIONALI
B3: RENDICONTO VIAGGI – CICLO AMMINISTRATIVO 2017/2022 – ESERCIZIO FINANZIARIO 2019
B4: ASSESSORE BARBARA GROSSO
B5: DESTINAZIONE | E5: RIMBORSATE * | H5: FATTURATE | K5: TOTALE TRASFERTA
C6: DAL | D6: AL | E6: SPESE DI VIAGGIO | F6: AUTO / km | G6: SPESE DI VITTO/ ALLOGGIO | H6: SPESE DI VIAGGIO | I6: AUTO | J6: SPESE DI VITTO/ ALLOGGIO
B7: MILANO | C7: 43517 | D7: 43517 | E7: 74.5 | G7: 8 | K7: =SUM(E7:J7) -> 82.5
B8: ROMA | C8: 43550 | D8: 43550 | H8: 263.79 | K8: =SUM(E8:J8) -> 263.79
B9: BERLINO | C9: 43529 | D9: 43531 | E9: 31.4 | G9: 32.05 | K9: =SUM(E9:J9) -> 63.45
K10: =SUM(E10:J10) -> 0
K11: =SUM(E11:J11) -> 0
K12: =SUM(E12:J12) -> 0
K13: =SUM(E13:J13) -> 0
K14: =SUM(E14:J14) -> 0
K15: =SUM(E15:J15) -> 0
K16: =SUM(E16:J16) -> 0
K17: =SUM(E17:J17) -> 0
K18: =SUM(E18:J18) -> 0
K19: =SUM(E19:J19) -> 0
K20: =SUM(E20:J20) -> 0
B21: TOTALI | E21: =SUM(E7:E20) -> 105.9 | F21: =SUM(F7:F20) -> 0 | G21: =SUM(G7:G20) -> 40.05 | H21: =SUM(H7:H20) -> 263.79 | I21: =SUM(I7:I20) -> 0 | J21: =SUM(J7:J20) -> 0 | K21: =SUM(K7:K20) -> 409.74
B23: *al vettore/all’economato – anticipi /carte di credito

Sheet Piciocchi
B2: COMUNE DI GENOVA - DIREZIONE SEGRETERIA GENERALE E ORGANI ISTITUZIONALI
B3: RENDICONTO VIAGGI – CICLO AMMINISTRATIVO 2017/2022 – ESERCIZIO FINANZIARIO 2019
B4: ASSESSORE PIETRO PICIOCCHI
B5: DESTINAZIONE | E5: RIMBORSATE * | H5: FATTURATE | K5: TOTALE TRASFERTA
C6: DAL | D6: AL | E6: SPESE DI VIAGGIO | F6: AUTO / km | G6: SPESE DI VITTO/ ALLOGGIO | H6: SPESE DI VIAGGIO | I6: AUTO | J6: SPESE DI VITTO/ ALLOGGIO
A7: 1 | B7: BOLOGNA | C7: 43502 | D7: 43502 | E7: 35.01 | K7: =SUM(E7:J7) -> 35.01
A8: 2 | B8: ROMA | C8: 43515 | D8: 43515 | E8: 129 | G8: 30.4 | H8: 297.29 | K8: =SUM(E8:J8) -> 456.69
A9: 3 | B9: ROMA | C9: 43572 | D9: 43572 | H9: 441.79 | K9: =SUM(E9:J9) -> 441.79
A10: 4 | B10: ROMA | C10: 43559 | D10: 43559 | H10: 253.79 | K10: =SUM(E10:J10) -> 253.79
A11: 5 | B11: ROMA | C11: 43559 | D11: 17992 | G11: 51.15 | K11: =SUM(E11:J11) -> 51.15
A12: 6 | B12: ROMA | C12: 43570 | D12: 43571 | E12: 255.91 | G12: 121 | K12: =SUM(E12:J12) -> 376.91
A13: 7 | B13: MILANO | C13: 43565 | D13: 43565 | F13: 16.69 | K13: =SUM(E13:J13) -> 16.69
A14: 8 | K14: =SUM(E14:J14) -> 0
A15: 9 | K15: =SUM(E15:J15) -> 0
A16: 10 | K16: =SUM(E16:J16) -> 0
A17: 11 | K17: =SUM(E17:J17) -> 0
A18: 12 | K18: =SUM(E18:J18) -> 0
A19: 13 | K19: =SUM(E19:J19) -> 0
A20: 14 | K20: =SUM(E20:J20) -> 0
A21: 15 | E21: =SUM(E7:E20) -> 419.92 | F21: =SUM(F7:F20) -> 16.69 | G21: =SUM(G7:G20) -> 202.55 | H21: =SUM(H7:H20) -> 992.87 | I21: =SUM(I7:I20) -> 0 | J21: =SUM(J7:J20) -> 0 | K21: =SUM(E21:J21) -> 1632.03
B23: *al vettore/all’economato – anticipi /carte di credito

Sheet Vinacci
B2: COMUNE DI GENOVA - DIREZIONE SEGRETERIA GENERALE E ORGANI ISTITUZIONALI
B3: RENDICONTO VIAGGI – CICLO AMMINISTRATIVO 2017/2022 – ESERCIZIO FINANZIARIO 2019
B4: ASSESSORE GIANCARLO VINACCI
B5: DESTINAZIONE | E5: RIMBORSATE * | H5: FATTURATE | K5: TOTALE TRASFERTA
C6: DAL | D6: AL | E6: SPESE DI VIAGGIO | F6: AUTO / km | G6: SPESE DI VITTO/ ALLOGGIO | H6: SPESE DI VIAGGIO | I6: AUTO | J6: SPESE DI VITTO/ ALLOGGIO
A7: 1 | B7: MILANO | C7: 43474 | D7: 43474 | E7: 8 | K7: =SUM(E7:J7) -> 8
A8: 2 | B8: MILANO / ROMA | C8: 43488 | D8: 43489 | E8: 132 | G8: =117+31.5-0.95 -> 147.55 | H8: 299.25 | K8: =SUM(E8:J8) -> 578.8
A9: 3 | B9: NIZZA | C9: 43495 | D9: 43495 | E9: =12+20.03 -> 32.03 | G9: =37.5-6.95 -> 30.55 | K9: =SUM(E9:J9) -> 62.58
A10: 4 | B10: BERLINO | C10: 43502 | D10: 43502 | E10: 45 | K10: =SUM(E10:J10) -> 45
A11: 5 | B11: CANNES | C11: 43536 | D11: 43539 | E11: 50.8 | K11: =SUM(E11:J11) -> 50.8
A12: 6 | B12: MILANO/LUGANO | C12: 43544 | D12: 43544 | E12: =42+6 -> 48 | G12: 8.5 | K12: =SUM(E12:J12) -> 56.5
A13: 7 | B13: ROMA | C13: 43563 | D13: 43563 | E13: 143 | G13: 147 | H13: 222.79 | K13: =SUM(E13:J13) -> 512.79
A14: 8 | B14: ROMA | C14: 43591 | D14: 43591 | E14: 135 | H14: 544.79 | K14: =SUM(E14:J14) -> 679.79
A15: 9 | B15: VARSAVIA | C15: 43570 | D15: 43572 | G15: 383.42 | H15: 568.74 | K15: =SUM(E15:J15) -> 952.16
A16: 10 | B16: MILANO | C16: 43612 | D16: 43612 | E16: 11.5 | K16: =SUM(E16:J16) -> 11.5
A17: 11 | B17: MILANO | C17: 43606 | D17: 43606 | E17: 8 | K17: =SUM(E17:J17) -> 8
A18: 12 | K18: =SUM(E18:J18) -> 0
A19: 13 | K19: =SUM(E19:J19) -> 0
A20: 14 | K20: =SUM(E20:J20) -> 0
B21: TOTALI | E21: =SUM(E7:E20) -> 613.33 | F21: =SUM(F7:F20) -> 0 | G21: =SUM(G7:G20) -> 717.02 | H21: =SUM(H7:H20) -> 1635.57 | I21: =SUM(I7:I20) -> 0 | J21: =SUM(J7:J20) -> 0 | K21: =SUM(K7:K20) -> 2965.92
B23: *al vettore/all’economato – anticipi /carte di credito

Sheet Viscogliosi
B2: COMUNE DI GENOVA - DIREZIONE SEGRETERIA GENERALE E ORGANI ISTITUZIONALI
B3: RENDICONTO VIAGGI – CICLO AMMINISTRATIVO 2017/2022 – ESERCIZIO FINANZIARIO 2019
B4: ASSESSORE ARIANNA VISCOGLIOSI
B5: DESTINAZIONE | E5: RIMBORSATE * | H5: FATTURATE | K5: TOTALE TRASFERTA
C6: DAL | D6: AL | E6: SPESE DI VIAGGIO | F6: AUTO / km | G6: SPESE DI VITTO/ ALLOGGIO | H6: SPESE DI VIAGGIO | I6: AUTO | J6: SPESE DI VITTO/ ALLOGGIO
B7: ALESSANDRIA | C7: 43490 | D7: 43490 | E7: 4.5 | K7: =SUM(E7:J7) -> 4.5
B8: ROMA | C8: 43601 | D8: 43601 | E8: 9.2 | G8: 7.5 | H8: 65.5 | K8: =SUM(E8:J8) -> 82.2
K9: =SUM(E9:J9) -> 0
K10: =SUM(E10:J10) -> 0
K11: =SUM(E11:J11) -> 0
K12: =SUM(E12:J12) -> 0
K13: =SUM(E13:J13) -> 0
K14: =SUM(E14:J14) -> 0
K15: =SUM(E15:J15) -> 0
K16: =SUM(E16:J16) -> 0
K17: =SUM(E17:J17) -> 0
K18: =SUM(E18:J18) -> 0
K19: =SUM(E19:J19) -> 0
K20: =SUM(E20:J20) -> 0
B21: TOTALI | E21: =SUM(E7:E20) -> 13.7 | F21: =SUM(F7:F20) -> 0 | G21: =SUM(G7:G20) -> 7.5 | H21: =SUM(H7:H20) -> 65.5 | I21: =SUM(I7:I20) -> 0 | J21: =SUM(J7:J20) -> 0 | K21: =SUM(K7:K20) -> 86.7
B23: *al vettore/all’economato – anticipi /carte di credito

Sheet Anzalone
B2: COMUNE DI GENOVA - DIREZIONE SEGRETERIA GENERALE E ORGANI ISTITUZIONALI
B3: RENDICONTO VIAGGI – CICLO AMMINISTRATIVO 2017/2022 – ESERCIZIO FINANZIARIO 2019
B4: CONSIGLIERE DELEGATO STEFANO ANZALONE
B5: DESTINAZIONE | E5: RIMBORSATE * | H5: FATTURATE | K5: TOTALE TRASFERTA
C6: DAL | D6: AL | E6: SPESE DI VIAGGIO | F6: AUTO / km | G6: SPESE DI VITTO/ ALLOGGIO | H6: SPESE DI VIAGGIO | I6: AUTO | J6: SPESE DI VITTO/ ALLOGGIO
B7: ROMA | C7: 43479 | D7: 43479 | E7: 13.5 | G7: 21.7 | H7: 113.8 | K7: =SUM(E7:J7) -> 149
K8: =SUM(E8:J8) -> 0
K9: =SUM(E9:J9) -> 0
K10: =SUM(E10:J10) -> 0
K11: =SUM(E11:J11) -> 0
K12: =SUM(E12:J12) -> 0
K13: =SUM(E13:J13) -> 0
K14: =SUM(E14:J14) -> 0
K15: =SUM(E15:J15) -> 0
K16: =SUM(E16:J16) -> 0
K17: =SUM(E17:J17) -> 0
K18: =SUM(E18:J18) -> 0
K19: =SUM(E19:J19) -> 0
K20: =SUM(E20:J20) -> 0
B21: TOTALI | E21: =SUM(E7:E20) -> 13.5 | F21: =SUM(F7:F20) -> 0 | G21: =SUM(G7:G20) -> 21.7 | H21: =SUM(H7:H20) -> 113.8 | I21: =SUM(I7:I20) -> 0 | J21: =SUM(J7:J20) -> 0 | K21: =SUM(K7:K20) -> 149
B23: *al vettore/all’economato – anticipi /carte di credito

Sheet Gambino
B2: COMUNE DI GENOVA - DIREZIONE SEGRETERIA GENERALE E ORGANI ISTITUZIONALI
B3: RENDICONTO VIAGGI – CICLO AMMINISTRATIVO 2017/2022 – ESERCIZIO FINANZIARIO 2019
B4: CONSIGLIERE DELEGATO ANTONINO GAMBINO
B5: DESTINAZIONE | E5: RIMBORSATE * | H5: FATTURATE | K5: TOTALE TRASFERTA
C6: DAL | D6: AL | E6: SPESE DI VIAGGIO | F6: AUTO / km | G6: SPESE DI VITTO/ ALLOGGIO | H6: SPESE DI VIAGGIO | I6: AUTO | J6: SPESE DI VITTO/ ALLOGGIO
B7: ROMA | C7: 43567 | D7: 43567 | E7: 45.6 | G7: 18.5 | H7: 443.79 | K7: =SUM(E7:J7) -> 507.89
K8: =SUM(E8:J8) -> 0
K9: =SUM(E9:J9) -> 0
K10: =SUM(E10:J10) -> 0
K11: =SUM(E11:J11) -> 0
K12: =SUM(E12:J12) -> 0
K13: =SUM(E13:J13) -> 0
K14: =SUM(E14:J14) -> 0
K15: =SUM(E15:J15) -> 0
K16: =SUM(E16:J16) -> 0
K17: =SUM(E17:J17) -> 0
K18: =SUM(E18:J18) -> 0
K19: =SUM(E19:J19) -> 0
K20: =SUM(E20:J20) -> 0
B21: TOTALI | E21: =SUM(E7:E20) -> 45.6 | F21: =SUM(F7:F20) -> 0 | G21: =SUM(G7:G20) -> 18.5 | H21: =SUM(H7:H20) -> 443.79 | I21: =SUM(I7:I20) -> 0 | J21: =SUM(J7:J20) -> 0 | K21: =SUM(K7:K20) -> 507.89
B23: *al vettore/all’economato – anticipi /carte di credito

Sheet Salemi
B2: COMUNE DI GENOVA - DIREZIONE SEGRETERIA GENERALE E ORGANI ISTITUZIONALI
B3: RENDICONTO VIAGGI – CICLO AMMINISTRATIVO 2017/2022 – ESERCIZIO FINANZIARIO 2019
B4: CONSIGLIERE DELEGATO PIETRO SALEMI
B5: DESTINAZIONE | E5: RIMBORSATE * | H5: FATTURATE | K5: TOTALE TRASFERTA
C6: DAL | D6: AL | E6: SPESE DI VIAGGIO | F6: AUTO / km | G6: SPESE DI VITTO/ ALLOGGIO | H6: SPESE DI VIAGGIO | I6: AUTO | J6: SPESE DI VITTO/ ALLOGGIO
B7: ROMA | C7: 21 | D7: 43487 | E7: 156.5 | G7: =50+42-11.45 -> 80.55 | K7: =SUM(E7:J7) -> 237.05
K8: =SUM(E8:J8) -> 0
K9: =SUM(E9:J9) -> 0
K10: =SUM(E10:J10) -> 0
K11: =SUM(E11:J11) -> 0
K12: =SUM(E12:J12) -> 0
K13: =SUM(E13:J13) -> 0
K14: =SUM(E14:J14) -> 0
K15: =SUM(E15:J15) -> 0
K16: =SUM(E16:J16) -> 0
K17: =SUM(E17:J17) -> 0
K18: =SUM(E18:J18) -> 0
K19: =SUM(E19:J19) -> 0
K20: =SUM(E20:J20) -> 0
B21: TOTALI | E21: =SUM(E7:E20) -> 156.5 | F21: =SUM(F7:F20) -> 0 | G21: =SUM(G7:G20) -> 80.55 | H21: =SUM(H7:H20) -> 0 | I21: =SUM(I7:I20) -> 0 | J21: =SUM(J7:J20) -> 0 | K21: =SUM(K7:K20) -> 237.05
B23: *al vettore/all’economato – anticipi /carte di credito

Sheet RIEPILOGO
B2: COMUNE DI GENOVA - DIREZIONE SEGRETERIA GENERALE E ORGANI ISTITUZIONALI
B3: RENDICONTO VIAGGI – CICLO AMMINISTRATIVO 2017/2022 – ESERCIZIO FINANZIARIO 2019
B4: RIEPILOGO AL 30/06/2019
B5: SINDACO / AMMINISTRATORI | C5: RIMBORSATE * | F5: FATTURATE | I5: TOTALE TRASFERTA
C6: SPESE DI VIAGGIO | D6: AUTO / km | E6: SPESE DI VITTO/ ALLOGGIO | F6: SPESE DI VIAGGIO | G6: AUTO | H6: SPESE DI VITTO/ ALLOGGIO
B7: BUCCI MARCO | C7: =Bucci!E21 -> 35.39 | D7: =Bucci!F21 -> 0 | E7: =Bucci!G21 -> 176 | F7: =Bucci!H21 -> 683.08 | G7: =Bucci!I21 -> 0 | H7: =Bucci!J21 -> 0 | I7: =SUM(C7:H7) -> 894.47
B8: BALLEARI STEFANO | C8: =Balleari!E21 -> 171.33 | D8: =Balleari!F21 -> 0 | E8: =Balleari!G21 -> 8 | F8: =Balleari!H21 -> 0 | G8: =Balleari!I21 -> 0 | H8: =Balleari!J21 -> 0 | I8: =SUM(C8:H8) -> 179.33
B9: BORDILLI PAOLA | C9: =Bordilli!E21 -> 17.5 | D9: =Bordilli!F21 -> 0 | E9: =Bordilli!G21 -> 0 | F9: =Bordilli!H21 -> 0 | G9: =Bordilli!I21 -> 0 | H9: =Bordilli!J21 -> 0 | I9: =SUM(C9:H9) -> 17.5
B10: CAMPORA MATTEO | C10: =Campora!E21 -> 154.7 | D10: =Campora!F21 -> 0 | E10: =Campora!G21 -> 76.1 | F10: =Campora!H21 -> 163.71 | G10: =Campora!I21 -> 0 | H10: =Campora!J21 -> 0 | I10: =SUM(C10:H10) -> 394.51
B11: CENCI SIMONETTA | C11: =Cenci!E21 -> 82 | D11: =Cenci!F21 -> 0 | E11: =Cenci!G21 -> 281.02 | F11: =Cenci!H21 -> 193.17 | G11: =Cenci!I21 -> 0 | H11: =Cenci!J21 -> 105.3 | I11: =SUM(C11:H11) -> 661.49
B12: FANGHELLA PAOLO | C12: =Fanghella!E21 -> 33 | D12: =Fanghella!F21 -> 0 | E12: =Fanghella!G21 -> 0 | F12: =Fanghella!H21 -> 721.79 | G12: =Fanghella!I21 -> 0 | H12: =Fanghella!J21 -> 0 | I12: =SUM(C12:H12) -> 754.79
B13: FASSIO FRANCESCA | C13: =Fassio!E21 -> 0 | D13: =Fassio!F21 -> 0 | E13: =Fassio!G21 -> 0 | F13: =Fassio!H21 -> 0 | G13: =Fassio!I21 -> 0 | H13: =Fassio!J21 -> 0 | I13: =SUM(C13:H13) -> 0
B14: GARASSINO STEFANO | C14: =Garassino!E21 -> 625.27 | D14: =Garassino!F21 -> 0 | E14: =Garassino!G21 -> 0 | F14: =Garassino!H21 -> 115.8 | G14: =Garassino!I21 -> 0 | H14: =Garassino!J21 -> 0 | I14: =SUM(C14:H14) -> 741.07
B15: GROSSO BARBARA | C15: =Grosso!E21 -> 105.9 | D15: =Grosso!F21 -> 0 | E15: =Grosso!G21 -> 40.05 | F15: =Grosso!H21 -> 263.79 | G15: =Grosso!I21 -> 0 | H15: =Grosso!J21 -> 0 | I15: =SUM(C15:H15) -> 409.74
B16: PICIOCCHI PIETRO | C16: =Piciocchi!E21 -> 419.92 | D16: =Piciocchi!F21 -> 16.69 | E16: =Piciocchi!G21 -> 202.55 | F16: =Piciocchi!H21 -> 992.87 | G16: =Piciocchi!I21 -> 0 | H16: =Piciocchi!J21 -> 0 | I16: =SUM(C16:H16) -> 1632.03
B17: VINACCI GIANCARLO | C17: =Vinacci!E21 -> 613.33 | D17: =Vinacci!F21 -> 0 | E17: =Vinacci!G21 -> 717.02 | F17: =Vinacci!H21 -> 1635.57 | G17: =Vinacci!I21 -> 0 | H17: =Vinacci!J21 -> 0 | I17: =SUM(C17:H17) -> 2965.92
B18: VISCOGLIOSI ARIANNA | C18: =Viscogliosi!E21 -> 13.7 | D18: =Viscogliosi!F21 -> 0 | E18: =Viscogliosi!G21 -> 7.5 | F18: =Viscogliosi!H21 -> 65.5 | G18: =Viscogliosi!I21 -> 0 | H18: =Viscogliosi!J21 -> 0 | I18: =SUM(C18:H18) -> 86.7
B19: ANZALONE STEFANO | C19: =Anzalone!E21 -> 13.5 | D19: =Anzalone!F21 -> 0 | E19: =Anzalone!G21 -> 21.7 | F19: =Anzalone!H21 -> 113.8 | G19: =Anzalone!I21 -> 0 | H19: =Anzalone!J21 -> 0 | I19: =SUM(C19:H19) -> 149
B20: GAMBINO ANTONINO | C20: =Gambino!E7 -> 45.6 | D20: =Gambino!F7 -> 0 | E20: =Gambino!G7 -> 18.5 | F20: =Gambino!H7 -> 443.79 | G20: =Gambino!I7 -> 0 | H20: =Gambino!J7 -> 0 | I20: =SUM(C20:H20) -> 507.89
B21: SALEMI PIETRO | C21: =Salemi!E21 -> 156.5 | D21: =Salemi!F21 -> 0 | E21: =Salemi!G21 -> 80.55 | F21: =Salemi!H21 -> 0 | G21: =Salemi!I21 -> 0 | H21: =Salemi!J21 -> 0 | I21: =SUM(C21:H21) -> 237.05
I22: =SUM(C22:H22) -> 0
B23: TOTALI | C23: =SUM(C7:C22) -> 2487.64 | D23: =SUM(D7:D22) -> 16.69 | E23: =SUM(E7:E22) -> 1628.99 | F23: =SUM(F7:F22) -> 5392.87 | G23: =SUM(G7:G22) -> 0 | H23: =SUM(H7:H22) -> 105.3 | I23: =SUM(I7:I22) -> 9631.49
C24: =SUM(C23:E23)-176-35.39 -> 3921.93 | F24: =SUM(F23:H23)+176+35.39 -> 5709.56
B25: *al vettore/all’economato – anticipi /carte di credito

Sheet Foglio1
